BEGIN:VCALENDAR
VERSION:2.0
PRODID:DPCALENDAR
CALSCALE:GREGORIAN
X-WR-TIMEZONE:UTC
BEGIN:VEVENT
DTSTART;TZID=UTC:20200220T173000
DTEND;TZID=UTC:20200220T190000
UID:E5328789-320D-491D-864A-9FEB20FD81BE
SUMMARY:Faschingsschwimmen
CREATED:20200216T213022Z
DTSTAMP:20200216T213022Z
URL:https://www.schwimmen-tsv-koenigsbrunn.de/component/dpcalendar/event/3?calid=20
X-ACCESS:1
X-HITS:2
X-COLOR:3366CC
X-SHOW-END-TIME:1
END:VEVENT
BEGIN:VEVENT
DTSTART;TZID=UTC:20200221T160000
DTEND;TZID=UTC:20200221T170000
UID:F33F0899-37C3-42E8-9537-037F4F652BD0
SUMMARY:Faschingsschwimmen
CREATED:20200216T213112Z
DTSTAMP:20200216T213112Z
URL:https://www.schwimmen-tsv-koenigsbrunn.de/component/dpcalendar/event/4?calid=20
X-ACCESS:1
X-HITS:3
X-COLOR:3366CC
X-SHOW-END-TIME:1
END:VEVENT
BEGIN:VEVENT
DTSTART;TZID=UTC:20200223T000000
DTEND;TZID=UTC:20200223T000000
UID:C011F81E-427B-4DA3-9659-878C1A210060
SUMMARY:FERIEN !
CREATED:20200216T212636Z
DTSTAMP:20200216T212636Z
URL:https://www.schwimmen-tsv-koenigsbrunn.de/component/dpcalendar/event/1?calid=20
X-ACCESS:1
X-HITS:2
X-COLOR:3366CC
X-SHOW-END-TIME:1
END:VEVENT
BEGIN:VEVENT
DTSTART;VALUE=DATE:20200224
DTEND;VALUE=DATE:20200229
UID:D4D876AA-B737-4F81-9F1A-F391F3E17F1F
SUMMARY:Ferien !
CREATED:20200216T212841Z
DTSTAMP:20200216T212841Z
URL:https://www.schwimmen-tsv-koenigsbrunn.de/component/dpcalendar/event/2?calid=20
X-ACCESS:1
X-HITS:2
X-COLOR:c7106e
X-SHOW-END-TIME:1
END:VEVENT
BEGIN:VEVENT
DTSTART;VALUE=DATE:20200224
DTEND;VALUE=DATE:20200229
UID:ACB08DA4-D6D7-41B8-AD7D-BBB048301A09
SUMMARY:Kein Training, Ferien!
CREATED:20200216T213543Z
DTSTAMP:20200216T213543Z
URL:https://www.schwimmen-tsv-koenigsbrunn.de/component/dpcalendar/event/5?calid=20
X-ACCESS:1
X-HITS:2
X-COLOR:3366CC
X-SHOW-END-TIME:1
END:VEVENT
BEGIN:VEVENT
DTSTART;VALUE=DATE:20200224
DTEND;VALUE=DATE:20200229
UID:AA0BDBFC-D2D4-4699-88D6-C55D60CDC894
SUMMARY:Kein Training, Ferien!
CREATED:20200216T213543Z
DTSTAMP:20200216T213543Z
URL:https://www.schwimmen-tsv-koenigsbrunn.de/component/dpcalendar/event/6?calid=20
X-ACCESS:1
X-HITS:2
X-COLOR:3366CC
X-SHOW-END-TIME:1
END:VEVENT
BEGIN:VEVENT
DTSTART;VALUE=DATE:20221216
DTEND;VALUE=DATE:20221217
UID:629FBE7E-FA9B-4358-A292-C2410149795B
SUMMARY:Spaßschwimmen / Weihnachtsschwimmen
CREATED:20221204T211452Z
DTSTAMP:20221204T211452Z
DESCRIPTION:Aufblasbare Badetiere sind herzlich willkommen.Achtung geänderte Einlasszeiten: 14.30 Uhr und 15.15 Uhr !!Der Nikolaus kommt von 15.30 bis 16.00 Uhr mit einer kleinen Überraschung für die Kinder.Das Hobbyschwimmen für unsere Erwachsenen entfällt an diesem Tag.
X-ALT-DESC;FMTTYPE=text/html:<p>Aufblasbare Badetiere sind herzlich willkommen.<br /><span style="text-decoration: underline;">Achtung geänderte Einlasszeiten:</span> <b>14.30 Uhr und 15.15 Uhr !!<br /></b>Der Nikolaus kommt von 15.30 bis 16.00 Uhr mit einer kleinen Überraschung für die Kinder.<br />Das Hobbyschwimmen für unsere Erwachsenen entfällt an diesem Tag.</p>
LAST-MODIFIED:20221206T202143Z
SEQUENCE:169611
URL:https://www.schwimmen-tsv-koenigsbrunn.de/component/dpcalendar/event/7?calid=20
X-ACCESS:1
X-HITS:177
X-COLOR:3366CC
X-SHOW-END-TIME:1
END:VEVENT
BEGIN:VEVENT
DTSTART;VALUE=DATE:20221223
DTEND;VALUE=DATE:20230111
UID:5AA7125C-799B-4EF6-B2A0-214DDDF342A7
SUMMARY:Kein Training, Ferien!
CREATED:20221204T211618Z
DTSTAMP:20221204T211618Z
URL:https://www.schwimmen-tsv-koenigsbrunn.de/component/dpcalendar/event/8?calid=20
X-ACCESS:1
X-HITS:220
X-COLOR:3366CC
X-SHOW-END-TIME:1
END:VEVENT
BEGIN:VEVENT
DTSTART;VALUE=DATE:20230114
DTEND;VALUE=DATE:20230116
UID:0376C28D-506A-4059-904A-9D909A16D1AF
SUMMARY:Wettkampf: Zirbelnussschwimmen (Haunstetten)
CREATED:20221204T212150Z
DTSTAMP:20221204T212150Z
LOCATION:17a Tattenbachstraße\, Augsburg\, Bayern 86179\, Deutschland
GEO:48.30861730;10.90675550
LAST-MODIFIED:20230107T190909Z
SEQUENCE:2929639
URL:https://www.sv-augsburg.de/top-themen/zirbelnuss-schwimmen.html
X-ACCESS:1
X-HITS:277
X-COLOR:3366CC
X-SHOW-END-TIME:1
END:VEVENT
BEGIN:VEVENT
DTSTART;VALUE=DATE:20230128
DTEND;VALUE=DATE:20230129
UID:76575E5E-E5D9-4E54-838E-68D2878DE356
SUMMARY:Wettkampf: Wilhelm-Christ-Schwimmen (Nördlingen)
CREATED:20221206T203725Z
DTSTAMP:20221206T203725Z
LAST-MODIFIED:20230107T190933Z
SEQUENCE:2759528
URL:https://www.1svn.de/files/uploads/Ausschreibung_Wilhelm-Christ_28_01_2023.pdf
X-ACCESS:1
X-HITS:357
X-COLOR:3366CC
X-SHOW-END-TIME:1
END:VEVENT
BEGIN:VEVENT
DTSTART;VALUE=DATE:20230216
DTEND;VALUE=DATE:20230218
UID:2530028D-E0A7-413B-A9CB-E67CD4301580
SUMMARY:Faschings Spaßschwimmen
CREATED:20221205T195431Z
DTSTAMP:20221205T195431Z
DESCRIPTION:Do: 17:30 bis 19.00 Uhr\NFr: 15.00 - 15.45 Uhr und16.00 - 16.45 Uhr\NAufblasbare Badetiere sind herzlich willkommen. Das Hobbyschwimmen für unsere Erwachsenen entfällt an diesen Tagen.
X-ALT-DESC;FMTTYPE=text/html:<p>Do: 17:30 bis 19.00 Uhr</p><p>Fr: 15.00 - 15.45 Uhr und<br />16.00 - 16.45 Uhr</p><p>Aufblasbare Badetiere sind herzlich willkommen. Das Hobbyschwimmen für unsere Erwachsenen entfällt an diesen Tagen.</p>
LAST-MODIFIED:20230211T162119Z
SEQUENCE:5862408
URL:https://www.schwimmen-tsv-koenigsbrunn.de/component/dpcalendar/event/10?calid=20
X-ACCESS:1
X-HITS:212
X-COLOR:3366CC
X-SHOW-END-TIME:1
END:VEVENT
BEGIN:VEVENT
DTSTART;VALUE=DATE:20230225
DTEND;VALUE=DATE:20230227
UID:0DAE7536-BD17-4708-B34F-842255D3F7EF
SUMMARY:Wettkampf: Cool Swimming Cup (Gersthofen)
CREATED:20230107T190802Z
DTSTAMP:20230107T190802Z
LOCATION:1A Brucknerstraße\, Gersthofen\, Bayern 86368\, Deutschland
GEO:48.42761450;10.87597069
LAST-MODIFIED:20230107T191347Z
SEQUENCE:345
URL:https://www.cool-swimming.de/
X-ACCESS:1
X-HITS:376
X-COLOR:3366CC
X-SHOW-END-TIME:1
END:VEVENT
BEGIN:VEVENT
DTSTART;VALUE=DATE:20230311
DTEND;VALUE=DATE:20230313
UID:2897EEC3-CC30-43C1-871A-5D77FFD3AD28
SUMMARY:Regionale Bestenkämpfe - Nord (Wettkampf, Hallenbad Haunstetten)
CREATED:20230228T194210Z
DTSTAMP:20230228T194210Z
LAST-MODIFIED:20230228T194244Z
SEQUENCE:34
URL:https://www.bsv-schwaben.de/images/downloads/Bezirk/Veranstaltungen/2023/Ausschreibungen/2023-03-11-Ausschreibung%20Regionale%20Nord%202023.pdf
X-ACCESS:1
X-HITS:188
X-COLOR:3366CC
X-SHOW-END-TIME:1
END:VEVENT
BEGIN:VEVENT
DTSTART;TZID=UTC:20240428T090000
DTEND;TZID=UTC:20240428T150000
UID:F4E2DEE7-4432-4F73-9683-51C5020EAFE0
SUMMARY:Vereinsmeisterschaft TSV Königsbrunn
CREATED:20240401T155456Z
DTSTAMP:20240401T155456Z
URL:https://www.schwimmen-tsv-koenigsbrunn.de/component/dpcalendar/event/14?calid=20
X-ACCESS:1
X-HITS:234
X-COLOR:3366CC
X-SHOW-END-TIME:1
END:VEVENT
BEGIN:VEVENT
DTSTART;VALUE=DATE:20240511
DTEND;VALUE=DATE:20240513
UID:8C826184-7176-4737-8C70-032EBB8203FE
SUMMARY:Wettkampf: Bezirks-Jhg.-Meisterschaften Augsburg
CREATED:20240401T155643Z
DTSTAMP:20240401T155643Z
LAST-MODIFIED:20240407T120935Z
SEQUENCE:504772
URL:https://www.bsv-schwaben.de/images/downloads/Bezirk/Veranstaltungen/2024/Ausschreibungen/2024-05-12-Ausschreibung%20Bezirks-Jahrgangsmeisterschaften.pdf
X-ACCESS:1
X-HITS:435
X-COLOR:3366CC
X-SHOW-END-TIME:0
END:VEVENT
BEGIN:VEVENT
DTSTART;VALUE=DATE:20240616
DTEND;VALUE=DATE:20240617
UID:B5EDE651-2E1A-4B7B-819E-3FE6ECF159A0
SUMMARY:Wettkampf: Clubvergleich Donauwörth (Freibad)
CREATED:20240401T160240Z
DTSTAMP:20240401T160240Z
LAST-MODIFIED:20240401T160445Z
SEQUENCE:125
URL:https://www.schwimmen-tsv-koenigsbrunn.de/component/dpcalendar/event/17?calid=20
X-ACCESS:1
X-HITS:483
X-COLOR:3366CC
X-SHOW-END-TIME:0
END:VEVENT
BEGIN:VEVENT
DTSTART;VALUE=DATE:20240721
DTEND;VALUE=DATE:20240722
UID:BC35B56B-3DCE-496C-9910-88B59B63A9F0
SUMMARY:Kuhsee Triathlon
CREATED:20240622T071419Z
DTSTAMP:20240622T071419Z
URL:https://www.lew-kuhseetriathlon.de
X-ACCESS:1
X-HITS:206
X-COLOR:3366CC
X-SHOW-END-TIME:0
END:VEVENT
BEGIN:VEVENT
DTSTART;TZID=UTC:20240728T080000
DTEND;TZID=UTC:20240728T140000
UID:F7939686-A883-4573-AFF3-8697E93F4E4B
SUMMARY:Stadtmeisterschaft Augsburg
CREATED:20240622T184738Z
DTSTAMP:20240622T184738Z
LOCATION:
GEO:48.38897150;10.85522474
LAST-MODIFIED:20240622T184748Z
SEQUENCE:10
URL:https://postsv.de/wp-content/uploads/2024/06/240531_Stadtmeisterschaft_Ausschreibung.pdf
X-ACCESS:1
X-HITS:282
X-COLOR:3366CC
X-SHOW-END-TIME:1
END:VEVENT
BEGIN:VEVENT
DTSTART;TZID=UTC:20241113T193000
DTEND;TZID=UTC:20241113T223000
UID:23466D0E-6FCE-4FB5-A7AF-55B8EF27BB45
SUMMARY:Jahreshauptversammlung 2024
CREATED:20241109T212827Z
DTSTAMP:20241109T212827Z
DESCRIPTION:\Nim Sportpark West, Königsallee, Königsbrunn\N
X-ALT-DESC;FMTTYPE=text/html:<ul><li>im Sportpark West, Königsallee, Königsbrunn</li></ul>
LAST-MODIFIED:20241109T212900Z
SEQUENCE:33
URL:https://www.schwimmen-tsv-koenigsbrunn.de/component/dpcalendar/event/22?calid=20
X-ACCESS:1
X-HITS:95
X-COLOR:3366CC
X-SHOW-END-TIME:0
END:VEVENT
BEGIN:VEVENT
DTSTART;VALUE=DATE:20250308
DTEND;VALUE=DATE:20250310
UID:90AD2771-6C2D-483C-8873-89139A6383EC
SUMMARY:Wettkampf: Cool Swimming Cup (Gersthofen)
CREATED:20250205T155450Z
DTSTAMP:20250205T155450Z
DESCRIPTION:zur Ausschreibung 2025
X-ALT-DESC;FMTTYPE=text/html:<p>zur <a href="https://www.cool-swimming.de/archiv/2025/Ausschreibung%2016%20Cool%20Swimming%20Cup.pdf">Ausschreibung 2025</a></p>
LAST-MODIFIED:20250205T155648Z
SEQUENCE:118
URL:https://www.schwimmen-tsv-koenigsbrunn.de/component/dpcalendar/event/23?calid=20
X-ACCESS:1
X-HITS:169
X-COLOR:3366CC
X-SHOW-END-TIME:1
END:VEVENT
BEGIN:VEVENT
DTSTART;VALUE=DATE:20250315
DTEND;VALUE=DATE:20250317
UID:2D38A149-4E15-4A36-8A03-5BE0100D33B5
SUMMARY:Wettkampf: Regionale Bestenkämpfe - Nord (Hallenbad Haunstetten)
CREATED:20250205T160636Z
DTSTAMP:20250205T160636Z
DESCRIPTION:zur Ausschreibung 2025
X-ALT-DESC;FMTTYPE=text/html:<p>zur <a href="https://bsv-schwaben.de/images/downloads/Bezirk/Veranstaltungen/2025/Ausschreibungen/2025-03-15-Ausschreibung%20Regionale%20Nord.pdf">Ausschreibung 2025</a></p>
LAST-MODIFIED:20250205T160711Z
SEQUENCE:35
URL:https://www.bsv-schwaben.de/images/downloads/Bezirk/Veranstaltungen/2023/Ausschreibungen/2023-03-11-Ausschreibung%20Regionale%20Nord%202023.pdf
X-ACCESS:1
X-HITS:179
X-COLOR:3366CC
X-SHOW-END-TIME:1
END:VEVENT
BEGIN:VEVENT
DTSTART;VALUE=DATE:20250316
DTEND;VALUE=DATE:20250317
UID:FF3528C8-8660-467D-90DF-0CFCEE0BE3F8
SUMMARY:Kindgerechter  Wettkampf "Bezirkszwerge" (Hallenbad Haunstetten)
CREATED:20250205T160842Z
DTSTAMP:20250205T160842Z
DESCRIPTION:zur Ausschreibung 2025
X-ALT-DESC;FMTTYPE=text/html:<p>zur <a href="https://bsv-schwaben.de/images/downloads/Bezirk/Veranstaltungen/2025/Ausschreibungen/2025-03-16-Ausschreibung%20KGW.pdf">Ausschreibung 2025</a></p>
LAST-MODIFIED:20250205T160943Z
SEQUENCE:61
URL:https://www.schwimmen-tsv-koenigsbrunn.de/component/dpcalendar/event/26?calid=20
X-ACCESS:1
X-HITS:169
X-COLOR:3366CC
X-SHOW-END-TIME:0
END:VEVENT
BEGIN:VEVENT
DTSTART;VALUE=DATE:20250529
DTEND;VALUE=DATE:20250530
UID:88A15DDF-986B-459E-A293-BC1975392605
SUMMARY:Wettkampf: Mauschwimmen Memmingen
CREATED:20250205T161142Z
DTSTAMP:20250205T161142Z
URL:https://www.schwimmen-tsv-koenigsbrunn.de/component/dpcalendar/event/27?calid=20
X-ACCESS:1
X-HITS:417
X-COLOR:3366CC
X-SHOW-END-TIME:0
END:VEVENT
BEGIN:VEVENT
DTSTART;VALUE=DATE:20250727
DTEND;VALUE=DATE:20250728
UID:CB6CA3F3-4EA2-43D2-9760-53D9D16CB960
SUMMARY:LEW Kuhsee Kinder Triathlon 2025
CREATED:20250205T160011Z
DTSTAMP:20250205T160011Z
DESCRIPTION:Schwimmen: 100 m, Radfahren: 4 km, Laufen: 1 km\NWeitere Infos hier
X-ALT-DESC;FMTTYPE=text/html:<p>Schwimmen: 100 m, Radfahren: 4 km, Laufen: 1 km</p><p>Weitere Infos <a href="https://www.lew-kuhseetriathlon.de/kinder-triathlon.html">hier</a></p>
LAST-MODIFIED:20250205T160116Z
SEQUENCE:65
URL:https://www.schwimmen-tsv-koenigsbrunn.de/component/dpcalendar/event/24?calid=20
X-ACCESS:1
X-HITS:595
X-COLOR:3366CC
X-SHOW-END-TIME:0
END:VEVENT
BEGIN:VEVENT
DTSTART;VALUE=DATE:20251122
DTEND;VALUE=DATE:20251123
UID:D54C8A55-10A2-44AD-9188-872242C8868D
SUMMARY:20. Internationaler SPRINTPOKAL Kempten
CREATED:20251013T133734Z
DTSTAMP:20251013T133734Z
DESCRIPTION:https://www.schwimmverein-gmuend.de/fileadmin/SVG/Ausschreibungen/Ausschreibung_1447.pdf
X-ALT-DESC;FMTTYPE=text/html:<p><a href="https://www.schwimmverein-gmuend.de/fileadmin/SVG/Ausschreibungen/Ausschreibung_1447.pdf">https://www.schwimmverein-gmuend.de/fileadmin/SVG/Ausschreibungen/Ausschreibung_1447.pdf</a></p>
LAST-MODIFIED:20251013T134007Z
SEQUENCE:153
URL:https://www.schwimmen-tsv-koenigsbrunn.de/component/dpcalendar/event/28?calid=20
X-ACCESS:1
X-HITS:864
X-COLOR:3366CC
X-SHOW-END-TIME:1
END:VEVENT
BEGIN:VEVENT
DTSTART;TZID=UTC:20251126T193000
DTEND;TZID=UTC:20251126T203000
UID:19A62C5E-9102-41ED-93B6-4D0A29320251
SUMMARY:Jahreshauptversammlung 2025 im Sportpark West Königsbrunn
CREATED:20251021T072020Z
DTSTAMP:20251021T072020Z
LAST-MODIFIED:20251021T072133Z
SEQUENCE:73
URL:https://www.schwimmen-tsv-koenigsbrunn.de/component/dpcalendar/event/30?calid=20
X-ACCESS:1
X-HITS:1000
X-COLOR:3366CC
X-SHOW-END-TIME:0
END:VEVENT
BEGIN:VEVENT
DTSTART;VALUE=DATE:20251204
DTEND;VALUE=DATE:20251208
UID:7AE3665D-F6A2-4BF0-917C-81B981642697
SUMMARY:Niklausmarkt Königsbrunn
CREATED:20251013T134946Z
DTSTAMP:20251013T134946Z
DESCRIPTION:https://www.koenigsbrunn.de/leben-erleben/feste-maerkte/niklausmarkt
X-ALT-DESC;FMTTYPE=text/html:<p><a href="https://www.koenigsbrunn.de/leben-erleben/feste-maerkte/niklausmarkt">https://www.koenigsbrunn.de/leben-erleben/feste-maerkte/niklausmarkt</a></p>
LAST-MODIFIED:20251013T135015Z
SEQUENCE:29
URL:https://www.schwimmen-tsv-koenigsbrunn.de/component/dpcalendar/event/29?calid=20
X-ACCESS:1
X-HITS:973
X-COLOR:3366CC
X-SHOW-END-TIME:1
END:VEVENT
BEGIN:VEVENT
DTSTART;VALUE=DATE:20260124
DTEND;VALUE=DATE:20260126
UID:B2C652D0-96F6-46AD-AA08-CEC9556498B8
SUMMARY:Zirbelnussschwimmen Haunstetten 2026
CREATED:20260102T212800Z
DTSTAMP:20260102T212800Z
LAST-MODIFIED:20260102T213009Z
SEQUENCE:129
URL:https://www.sv-augsburg.de/images/veranstaltungen/zirbelnuss/Ausschreibung_Zirbelnuss_2026.pdf
X-ACCESS:1
X-HITS:277
X-COLOR:3366CC
X-SHOW-END-TIME:1
END:VEVENT
BEGIN:VEVENT
DTSTART;VALUE=DATE:20260207
DTEND;VALUE=DATE:20260208
UID:863542D0-9041-46FB-B527-811870E630D7
SUMMARY:Bodensee Cup Lindau 2026
CREATED:20260102T212947Z
DTSTAMP:20260102T212947Z
LAST-MODIFIED:20260102T213025Z
SEQUENCE:38
URL:https://files.lindauerschwimmer.de/2026_Ausschreibung/Ausschreibung%20Therme%20Lindau%20Cup%202026.pdf
X-ACCESS:1
X-HITS:362
X-COLOR:3366CC
X-SHOW-END-TIME:0
END:VEVENT
END:VCALENDAR